BEGIN:VCALENDAR
VERSION:2.0
PRODID:-//Ruakura Campus Club Inc - ECPv6.15.20//NONSGML v1.0//EN
CALSCALE:GREGORIAN
METHOD:PUBLISH
X-WR-CALNAME:Ruakura Campus Club Inc
X-ORIGINAL-URL:https://ruakura-club.co.nz
X-WR-CALDESC:Events for Ruakura Campus Club Inc
REFRESH-INTERVAL;VALUE=DURATION:PT1H
X-Robots-Tag:noindex
X-PUBLISHED-TTL:PT1H
BEGIN:VTIMEZONE
TZID:Pacific/Auckland
BEGIN:STANDARD
TZOFFSETFROM:+1300
TZOFFSETTO:+1200
TZNAME:NZST
DTSTART:20230401T140000
END:STANDARD
BEGIN:DAYLIGHT
TZOFFSETFROM:+1200
TZOFFSETTO:+1300
TZNAME:NZDT
DTSTART:20230923T140000
END:DAYLIGHT
BEGIN:STANDARD
TZOFFSETFROM:+1300
TZOFFSETTO:+1200
TZNAME:NZST
DTSTART:20240406T140000
END:STANDARD
BEGIN:DAYLIGHT
TZOFFSETFROM:+1200
TZOFFSETTO:+1300
TZNAME:NZDT
DTSTART:20240928T140000
END:DAYLIGHT
BEGIN:STANDARD
TZOFFSETFROM:+1300
TZOFFSETTO:+1200
TZNAME:NZST
DTSTART:20250405T140000
END:STANDARD
BEGIN:DAYLIGHT
TZOFFSETFROM:+1200
TZOFFSETTO:+1300
TZNAME:NZDT
DTSTART:20250927T140000
END:DAYLIGHT
BEGIN:STANDARD
TZOFFSETFROM:+1300
TZOFFSETTO:+1200
TZNAME:NZST
DTSTART:20260404T140000
END:STANDARD
BEGIN:DAYLIGHT
TZOFFSETFROM:+1200
TZOFFSETTO:+1300
TZNAME:NZDT
DTSTART:20260926T140000
END:DAYLIGHT
END:VTIMEZONE
BEGIN:VEVENT
DTSTART;TZID=Pacific/Auckland:20251018T090000
DTEND;TZID=Pacific/Auckland:20251018T120000
DTSTAMP:20260422T070152
CREATED:20251014T084149Z
LAST-MODIFIED:20251014T084149Z
UID:646-1760778000-1760788800@ruakura-club.co.nz
SUMMARY:Working bee
DESCRIPTION:It’s time to put the shade canopies back up\, tidy up the patio space (including filling under a few loose bricks) and give the pool area a clean up. \nWe’d love as many helping hands as possible to make the work light and quick.
URL:https://ruakura-club.co.nz/event/working-bee/
LOCATION:RCC Clubroom/Bar
END:VEVENT
BEGIN:VEVENT
DTSTART;TZID=Pacific/Auckland:20251017T163000
DTEND;TZID=Pacific/Auckland:20251017T210000
DTSTAMP:20260422T070152
CREATED:20250930T083719Z
LAST-MODIFIED:20250930T083815Z
UID:637-1760718600-1760734800@ruakura-club.co.nz
SUMMARY:LOUD Shirt Night
DESCRIPTION:Turn up the volume for kids with hearing loss!\nhttps://www.loudshirtday.org/event/the-hearing-house-new-zealand/home \n  \nWear your loudest most obnoxiously bright shirt on Friday 17th October\, prizes and fund-raising for The Hearing House.
URL:https://ruakura-club.co.nz/event/loud-shirt-night/
LOCATION:RCC Clubroom/Bar
END:VEVENT
BEGIN:VEVENT
DTSTART;TZID=Pacific/Auckland:20250919T163000
DTEND;TZID=Pacific/Auckland:20250919T210000
DTSTAMP:20260422T070152
CREATED:20250824T073821Z
LAST-MODIFIED:20250916T090322Z
UID:618-1758299400-1758315600@ruakura-club.co.nz
SUMMARY:Talk like a pirate day
DESCRIPTION:Dress as a pirate and be in to win. \nParrots welcome!
URL:https://ruakura-club.co.nz/event/talk-like-a-pirate-day/
LOCATION:RCC Clubroom/Bar
END:VEVENT
BEGIN:VEVENT
DTSTART;TZID=Pacific/Auckland:20250904T180000
DTEND;TZID=Pacific/Auckland:20250904T203000
DTSTAMP:20260422T070152
CREATED:20250822T055039Z
LAST-MODIFIED:20250822T055039Z
UID:583-1757008800-1757017800@ruakura-club.co.nz
SUMMARY:Quiz Night
DESCRIPTION:Team size is maximum six (6) people. \nRegister on the night
URL:https://ruakura-club.co.nz/event/quiz-night-2/
LOCATION:RCC Clubroom/Bar
END:VEVENT
BEGIN:VEVENT
DTSTART;TZID=Pacific/Auckland:20250829T163000
DTEND;TZID=Pacific/Auckland:20250829T210000
DTSTAMP:20260422T070152
CREATED:20250822T054908Z
LAST-MODIFIED:20250824T073556Z
UID:581-1756485000-1756501200@ruakura-club.co.nz
SUMMARY:Mad Hatters - Daffodil Day Fundraiser
DESCRIPTION:It’s all fun and games as we raffle off some SMEG kitchen goodies\, tie some balloon flowers and decide who wore the best hat. \nPrizes for best hat of each of the affiliate clubs (Squash\, HMC & Darts) as well as “regular (non sport playing)” member. \nLots of spot prizes available as well. \nFunds raised during this event will go to Cancer Society New Zealand https://daffodilday.org.nz \nWear your daffodil or ribbon\, your craziest/maddest hat (or pay the fine) and join in the fun!
URL:https://ruakura-club.co.nz/event/daffodil-day-fundraiser/
LOCATION:RCC Clubroom/Bar
END:VEVENT
BEGIN:VEVENT
DTSTART;TZID=Pacific/Auckland:20250808T173000
DTEND;TZID=Pacific/Auckland:20250808T213000
DTSTAMP:20260422T070152
CREATED:20250730T222846Z
LAST-MODIFIED:20250807T225317Z
UID:574-1754674200-1754688600@ruakura-club.co.nz
SUMMARY:Curry Night
DESCRIPTION:Book at the bar so we have an idea of numbers! \n$20.00 per person. \nOptions: Beef\, Mutton\, Vege \nServed with Rice & Paratha.
URL:https://ruakura-club.co.nz/event/curry-night/
LOCATION:RCC Clubroom/Bar
END:VEVENT
BEGIN:VEVENT
DTSTART;TZID=Pacific/Auckland:20250731T163000
DTEND;TZID=Pacific/Auckland:20250731T210000
DTSTAMP:20260422T070152
CREATED:20250617T023632Z
LAST-MODIFIED:20250617T023632Z
UID:567-1753979400-1753995600@ruakura-club.co.nz
SUMMARY:Quiz Night 7pm start
DESCRIPTION:Starting at 7pm\, come on down early and get your brain warmed up with a meal from the kitchen.
URL:https://ruakura-club.co.nz/event/quiz-night-7pm-start/
END:VEVENT
BEGIN:VEVENT
DTSTART;TZID=Pacific/Auckland:20250620T163000
DTEND;TZID=Pacific/Auckland:20250620T223000
DTSTAMP:20260422T070152
CREATED:20250617T023456Z
LAST-MODIFIED:20250617T023659Z
UID:565-1750437000-1750458600@ruakura-club.co.nz
SUMMARY:Open for Matariki
DESCRIPTION:Wear your Waikato Chiefs colours and receive a chocolate fish!
URL:https://ruakura-club.co.nz/event/open-for-matariki/
LOCATION:RCC Clubroom/Bar
END:VEVENT
BEGIN:VEVENT
DTSTART;TZID=Pacific/Auckland:20250502T163000
DTEND;TZID=Pacific/Auckland:20250502T210000
DTSTAMP:20260422T070152
CREATED:20250117T061119Z
LAST-MODIFIED:20250117T061119Z
UID:506-1746203400-1746219600@ruakura-club.co.nz
SUMMARY:Duck Calling Competition
DESCRIPTION:Wear your camo and create your best duck call (callers provided if you need) to be in to win prizes!
URL:https://ruakura-club.co.nz/event/duck-calling-competition/
LOCATION:RCC Clubroom/Bar
END:VEVENT
BEGIN:VEVENT
DTSTART;TZID=Pacific/Auckland:20250322T090000
DTEND;TZID=Pacific/Auckland:20250322T170000
DTSTAMP:20260422T070152
CREATED:20250222T073202Z
LAST-MODIFIED:20250222T073559Z
UID:523-1742634000-1742662800@ruakura-club.co.nz
SUMMARY:Darts King or Queen of The Campus!
DESCRIPTION:
URL:https://ruakura-club.co.nz/event/king-or-queen-of-the-campus/
LOCATION:RCC Clubroom/Bar
CATEGORIES:Darts
END:VEVENT
BEGIN:VEVENT
DTSTART;TZID=Pacific/Auckland:20250228T163000
DTEND;TZID=Pacific/Auckland:20250228T210000
DTSTAMP:20260422T070152
CREATED:20250117T053245Z
LAST-MODIFIED:20250218T121432Z
UID:504-1740760200-1740776400@ruakura-club.co.nz
SUMMARY:Loud Shirt Day
DESCRIPTION:Loud Shirt Day is the national fundraising campaign for The Hearing House and the Southern Cochlear Implant Programme(SCIP) – the only two charities in New Zealand dedicated to helping children and adults with cochlear implants learn to listen and communicate. \nWear your most obnoxiously loud and colourful  shirt. Donations and proceeds will be going to the Hearing House.
URL:https://ruakura-club.co.nz/event/loud-shirt-day/
LOCATION:RCC Clubroom/Bar
END:VEVENT
BEGIN:VEVENT
DTSTART;TZID=Pacific/Auckland:20250219T183000
DTEND;TZID=Pacific/Auckland:20250219T210000
DTSTAMP:20260422T070152
CREATED:20250211T070352Z
LAST-MODIFIED:20250211T070352Z
UID:513-1739989800-1739998800@ruakura-club.co.nz
SUMMARY:Darts Club Muster - All welcome
DESCRIPTION:  \nAll ages\, sexes and levels of experience/skill welcome. \nDarts / Food / Prizes and Coaching provided. \nText your name/age/sex to the organiser (see event details) or just show up on the night!
URL:https://ruakura-club.co.nz/event/darts-club-muster-all-welcome/
LOCATION:RCC Clubroom/Bar
CATEGORIES:Darts
END:VEVENT
BEGIN:VEVENT
DTSTART;TZID=Pacific/Auckland:20250216T090000
DTEND;TZID=Pacific/Auckland:20250216T170000
DTSTAMP:20260422T070152
CREATED:20250102T232216Z
LAST-MODIFIED:20250102T232216Z
UID:499-1739696400-1739725200@ruakura-club.co.nz
SUMMARY:Blueberry Fun Run & Walk
DESCRIPTION:Join HMC Runners & Walkers for a Fun Run and walk through the blueberry bushes.\n5km or 12km – Every one finishing gets a free blueberry pie! \nRegistration from 7.30am at Blueberry Country\, 397 Jary Road\, Ohaupo \n 
URL:https://ruakura-club.co.nz/event/blueberry-fun-run-walk/
END:VEVENT
BEGIN:VEVENT
DTSTART;TZID=Pacific/Auckland:20250214T163000
DTEND;TZID=Pacific/Auckland:20250214T210000
DTSTAMP:20260422T070152
CREATED:20250211T071326Z
LAST-MODIFIED:20250211T071326Z
UID:516-1739550600-1739566800@ruakura-club.co.nz
SUMMARY:Valentines at the Club
DESCRIPTION:Our first theme night of the year! \nBring your partner along\, dress up for the occasion and be in to win prizes. \nKitchen will have fish\, chips and salad on offer.
URL:https://ruakura-club.co.nz/event/valentines-at-the-club/
LOCATION:RCC Clubroom/Bar
END:VEVENT
BEGIN:VEVENT
DTSTART;VALUE=DATE:20250206
DTEND;VALUE=DATE:20250207
DTSTAMP:20260422T070152
CREATED:20250205T232010Z
LAST-MODIFIED:20250205T232010Z
UID:510-1738800000-1738886399@ruakura-club.co.nz
SUMMARY:Closed: Waitangi Day
DESCRIPTION:The club will be closed on Thursday\, 6th February for Waitangi Day. \nEnjoy the sunshine and the day off\, we’ll see you from 4.30pm on Friday.
URL:https://ruakura-club.co.nz/event/closed-waitangi-day/
END:VEVENT
BEGIN:VEVENT
DTSTART;TZID=Pacific/Auckland:20250108T163000
DTEND;TZID=Pacific/Auckland:20250108T200000
DTSTAMP:20260422T070152
CREATED:20250101T054321Z
LAST-MODIFIED:20250101T054321Z
UID:497-1736353800-1736366400@ruakura-club.co.nz
SUMMARY:Club Bar reopens
DESCRIPTION:RCC Clubroom Bar reopens 4.30pm Wednesday
URL:https://ruakura-club.co.nz/event/club-bar-reopens/
LOCATION:RCC Clubroom/Bar
END:VEVENT
BEGIN:VEVENT
DTSTART;TZID=Pacific/Auckland:20250103T110000
DTEND;TZID=Pacific/Auckland:20250103T130000
DTSTAMP:20260422T070152
CREATED:20241230T014129Z
LAST-MODIFIED:20241230T014239Z
UID:488-1735902000-1735909200@ruakura-club.co.nz
SUMMARY:Swimming Pool Keys
DESCRIPTION:Keys and bands may be collected from the RCC Clubroom at the following times: \n\nTuesday\, 31st December 2024 1:00pm – 2:00pm\nThursday\, 2nd January 2025 11:00am – 1:00pm\nFriday\, 3rd January 2025 11:00am – 1:00pm\n\nFor those with access cards\, they should be working to allow you in through the barrier arms on Ruakura Lane. \nEFTPOS is available for those that have not yet paid. \nPlease bring your membership card if you have one\, and last years key/bands (if applicable)
URL:https://ruakura-club.co.nz/event/swimming-pool-keys-3/
LOCATION:RCC Clubroom/Bar
END:VEVENT
BEGIN:VEVENT
DTSTART;TZID=Pacific/Auckland:20250102T110000
DTEND;TZID=Pacific/Auckland:20250102T130000
DTSTAMP:20260422T070152
CREATED:20241230T014035Z
LAST-MODIFIED:20241230T014320Z
UID:486-1735815600-1735822800@ruakura-club.co.nz
SUMMARY:Swimming Pool Keys
DESCRIPTION:Keys and bands may be collected from the RCC Clubroom at the following times: \n\nTuesday\, 31st December 2024 1:00pm – 2:00pm\nThursday\, 2nd January 2025 11:00am – 1:00pm\nFriday\, 3rd January 2025 11:00am – 1:00pm\n\nFor those with access cards\, they should be working to allow you in through the barrier arms on Ruakura Lane. \nEFTPOS is available for those that have not yet paid. \nPlease bring your membership card if you have one\, and last years key/bands (if applicable)
URL:https://ruakura-club.co.nz/event/swimming-pool-keys-2/
LOCATION:RCC Clubroom/Bar
END:VEVENT
BEGIN:VEVENT
DTSTART;TZID=Pacific/Auckland:20241231T130000
DTEND;TZID=Pacific/Auckland:20241231T140000
DTSTAMP:20260422T070152
CREATED:20241230T013851Z
LAST-MODIFIED:20241230T014342Z
UID:483-1735650000-1735653600@ruakura-club.co.nz
SUMMARY:Swimming Pool Keys
DESCRIPTION:Keys and bands may be collected from the RCC Clubroom at the following times: \n\nTuesday\, 31st December 2024 1:00pm – 2:00pm\nThursday\, 2nd January 2025 11:00am – 1:00pm\nFriday\, 3rd January 2025 11:00am – 1:00pm\n\nFor those with access cards\, they should be working to allow you in through the barrier arms on Ruakura Lane. \nEFTPOS is available for those that have not yet paid. \nPlease bring your membership card if you have one\, and last years key/bands (if applicable)
URL:https://ruakura-club.co.nz/event/swimming-pool-keys/
LOCATION:RCC Clubroom/Bar
END:VEVENT
BEGIN:VEVENT
DTSTART;TZID=Pacific/Auckland:20241220T230000
DTEND;TZID=Pacific/Auckland:20241220T230000
DTSTAMP:20260422T070152
CREATED:20241028T091518Z
LAST-MODIFIED:20241230T015111Z
UID:459-1734735600-1734735600@ruakura-club.co.nz
SUMMARY:Christmas Holidays - RCC Bar Closed
DESCRIPTION:Friday\, 20th December 2024 will be our last day of operation for 2024.\nThe club will reopen on Wednesday\, 8th January 2025.
URL:https://ruakura-club.co.nz/event/christmas-holidays-rcc-bar-closed/
END:VEVENT
BEGIN:VEVENT
DTSTART;TZID=Pacific/Auckland:20241206T180000
DTEND;TZID=Pacific/Auckland:20241206T200000
DTSTAMP:20260422T070152
CREATED:20241028T090121Z
LAST-MODIFIED:20241028T090632Z
UID:455-1733508000-1733515200@ruakura-club.co.nz
SUMMARY:Christmas Dinner
DESCRIPTION:Bookings are essential!\n$35.00 per person at the bar.\nReserve your spot now!
URL:https://ruakura-club.co.nz/event/christmas-dinner/
ATTACH;FMTTYPE=image/png:https://ruakura-club.co.nz/wp-content/uploads/2023/11/IMG_5134.png
END:VEVENT
BEGIN:VEVENT
DTSTART;TZID=Pacific/Auckland:20241114T184500
DTEND;TZID=Pacific/Auckland:20241114T200000
DTSTAMP:20260422T070152
CREATED:20241028T085913Z
LAST-MODIFIED:20241028T090700Z
UID:453-1731609900-1731614400@ruakura-club.co.nz
SUMMARY:Quiz Night
DESCRIPTION:Another chance to show off your groups knowledge\, teams of 2-6\, $5 entry fee per team member.\nKitchen will be open with the usual offerings before & during the quiz\nPrizes for the winning team of each round.\nOverall prize for winning team.\nPlease register your team when arriving on the night (Bar & Kitchen open at 4.30pm)
URL:https://ruakura-club.co.nz/event/quiz-night/
ATTACH;FMTTYPE=image/png:https://ruakura-club.co.nz/wp-content/uploads/2024/03/quiz-2191229_1280.png
END:VEVENT
BEGIN:VEVENT
DTSTART;TZID=Pacific/Auckland:20241102T090000
DTEND;TZID=Pacific/Auckland:20241102T170000
DTSTAMP:20260422T070152
CREATED:20241028T090244Z
LAST-MODIFIED:20241028T090244Z
UID:457-1730538000-1730566800@ruakura-club.co.nz
SUMMARY:Swimming Pool Working Bee
DESCRIPTION:Do you have an hour or so free on Saturday 2nd of November?\nAre you able to assist with cleaning the pool\, sheds and surrounds?\nWaterblasters will be on site\, ready for volunteers to rotate through the day ensuring nobody has to over-exert themselves. \nThe more assistance available the faster the job gets done and the sooner we can get the pool filled\, stabilised the ready to use!
URL:https://ruakura-club.co.nz/event/swimming-pool-working-bee/
END:VEVENT
BEGIN:VEVENT
DTSTART;TZID=Pacific/Auckland:20241101T163000
DTEND;TZID=Pacific/Auckland:20241101T193000
DTSTAMP:20260422T070152
CREATED:20241028T085626Z
LAST-MODIFIED:20241028T085626Z
UID:451-1730478600-1730489400@ruakura-club.co.nz
SUMMARY:Gumboot Friday
DESCRIPTION:Join us for Gumboot Friday!\nWear your gumboots or face a $5 fine; if you wear them\, please donate $3.\nAll proceeds from fines\, donations\, and raffles will go to the Gumboot Friday charity.\nThere will be prizes for the shiniest boots\, most worn out\, best decorated\, and other spot prizes to be won!
URL:https://ruakura-club.co.nz/event/gumboot-friday/
END:VEVENT
END:VCALENDAR